BEGIN:VCALENDAR
VERSION:2.0
PRODID:SchoolNow
CALSCALE:GREGORIAN
BEGIN:VEVENT
UID:e33443ee-bbb4-11ee-bbf4-0a7c3638e6d3
DTSTAMP:20240823T180504Z
SUMMARY:Mahjong - Oct. 29th\, 2024
LOCATION:Clubhouse
URL;VALUE=URI:https://www.forestcreekcdd.org/calendar/5208016/mahjong-oct-2
 9th-2024
DTSTART:20241029T223000Z
DTEND:20241030T003000Z
END:VEVENT
END:VCALENDAR
