BEGIN:VCALENDAR
VERSION:2.0
PRODID:SchoolNow
CALSCALE:GREGORIAN
BEGIN:VEVENT
UID:0b0456c2-beb0-11ee-9550-0a58a9feac02
DTSTAMP:20240129T140940Z
SUMMARY:HOA Landscape Committee - Feb. 21st\,  2024
LOCATION:Forest Creek Clubhouse - 11685 Old Florida Lane\, Parrish\, FL 342
 19
URL;VALUE=URI:https://www.forestcreekcdd.org/calendar/5225564/hoa-landscape
 -committee-feb-21st-2024
DTSTART:20240221T230000Z
DTEND:20240222T010000Z
END:VEVENT
END:VCALENDAR
