BEGIN:VCALENDAR
VERSION:2.0
PRODID:SchoolNow
CALSCALE:GREGORIAN
BEGIN:VEVENT
UID:8f3ad024-c9e6-11ee-b657-0a5643f2d655
DTSTAMP:20240212T203737Z
SUMMARY:ARC meeting - Feb. 2024
LOCATION:Forest Creek Clubhouse - 11685 Old Florida Lane\, Parrish\, FL 342
 19
URL;VALUE=URI:https://www.forestcreekcdd.org/calendar/5315392/arc-meeting-f
 eb-2024
DTSTART:20240210T000000Z
DTEND:20240210T010000Z
END:VEVENT
END:VCALENDAR
