BEGIN:VCALENDAR
VERSION:2.0
PRODID:SchoolNow
CALSCALE:GREGORIAN
BEGIN:VEVENT
UID:9c027da2-c9e6-11ee-8705-0a58a9feac02
DTSTAMP:20240212T203759Z
SUMMARY:ARC meeting - Mar. 2024
LOCATION:Forest Creek Clubhouse - 11685 Old Florida Lane\, Parrish\, FL 342
 19
URL;VALUE=URI:https://www.forestcreekcdd.org/calendar/5315393/arc-meeting-m
 ar-2024
DTSTART:20240314T230000Z
DTEND:20240315T000000Z
END:VEVENT
END:VCALENDAR
