BEGIN:VCALENDAR
VERSION:2.0
PRODID:SchoolNow
CALSCALE:GREGORIAN
BEGIN:VEVENT
UID:b34d0978-c9e6-11ee-b648-0a58a9feac02
DTSTAMP:20240212T203838Z
SUMMARY:ARC meeting - May 2024
LOCATION:Forest Creek Clubhouse - 11685 Old Florida Lane\, Parrish\, FL 342
 19
URL;VALUE=URI:https://www.forestcreekcdd.org/calendar/5315395/arc-meeting-m
 ay-2024
DTSTART:20240509T230000Z
DTEND:20240510T000000Z
END:VEVENT
END:VCALENDAR
