BEGIN:VCALENDAR
VERSION:2.0
PRODID:SchoolNow
CALSCALE:GREGORIAN
BEGIN:VEVENT
UID:c2c21bf0-c9e6-11ee-abc3-0a10d8ed03b5
DTSTAMP:20240212T203904Z
SUMMARY:ARC meeting - Jun. 2024
LOCATION:Forest Creek Clubhouse - 11685 Old Florida Lane\, Parrish\, FL 342
 19
URL;VALUE=URI:https://www.forestcreekcdd.org/calendar/5315396/arc-meeting-j
 un-2024
DTSTART:20240613T230000Z
DTEND:20240614T000000Z
END:VEVENT
END:VCALENDAR
