BEGIN:VCALENDAR
VERSION:2.0
PRODID:SchoolNow
CALSCALE:GREGORIAN
BEGIN:VEVENT
UID:cbf953c8-c9e6-11ee-b527-0a704538507b
DTSTAMP:20240212T203919Z
SUMMARY:ARC meeting - Jul. 2024
LOCATION:Forest Creek Clubhouse - 11685 Old Florida Lane\, Parrish\, FL 342
 19
URL;VALUE=URI:https://www.forestcreekcdd.org/calendar/5315397/arc-meeting-j
 ul-2024
DTSTART:20240711T230000Z
DTEND:20240712T000000Z
END:VEVENT
END:VCALENDAR
