BEGIN:VCALENDAR
VERSION:2.0
PRODID:SchoolNow
CALSCALE:GREGORIAN
BEGIN:VEVENT
UID:d642cc2e-c9e6-11ee-9e31-0a58a9feac02
DTSTAMP:20240212T203936Z
SUMMARY:ARC meeting - Aug. 2024
LOCATION:Forest Creek Clubhouse - 11685 Old Florida Lane\, Parrish\, FL 342
 19
URL;VALUE=URI:https://www.forestcreekcdd.org/calendar/5315398/arc-meeting-a
 ug-2024
DTSTART:20240808T230000Z
DTEND:20240809T000000Z
END:VEVENT
END:VCALENDAR
