BEGIN:VCALENDAR
VERSION:2.0
PRODID:SchoolNow
CALSCALE:GREGORIAN
BEGIN:VEVENT
UID:e4fa4a4e-c9e6-11ee-a229-0a58a9feac02
DTSTAMP:20240212T204001Z
SUMMARY:ARC meeting - Sept. 2024
LOCATION:Forest Creek Clubhouse - 11685 Old Florida Lane\, Parrish\, FL 342
 19
URL;VALUE=URI:https://www.forestcreekcdd.org/calendar/5315399/arc-meeting-s
 ept-2024
DTSTART:20240912T230000Z
DTEND:20240913T000000Z
END:VEVENT
END:VCALENDAR
