BEGIN:VCALENDAR
VERSION:2.0
PRODID:SchoolNow
CALSCALE:GREGORIAN
BEGIN:VEVENT
UID:fbf9bcfc-c9e6-11ee-b0c4-0a704538507b
DTSTAMP:20241023T131816Z
SUMMARY:ARC meeting - Nov. 2024
LOCATION:Forest Creek Clubhouse - 11685 Old Florida Lane\, Parrish\, FL 342
 19
URL;VALUE=URI:https://www.forestcreekcdd.org/calendar/5315401/arc-meeting-n
 ov-2024
DTSTART:20241107T000000Z
DTEND:20241107T010000Z
END:VEVENT
END:VCALENDAR
