BEGIN:VCALENDAR
VERSION:2.0
PRODID:SchoolNow
CALSCALE:GREGORIAN
BEGIN:VEVENT
UID:0766e8da-c9e7-11ee-aa84-0a58a9feac02
DTSTAMP:20240212T204059Z
SUMMARY:ARC meeting - Dec. 2024
LOCATION:Forest Creek Clubhouse - 11685 Old Florida Lane\, Parrish\, FL 342
 19
URL;VALUE=URI:https://www.forestcreekcdd.org/calendar/5315402/arc-meeting-d
 ec-2024
DTSTART:20241213T000000Z
DTEND:20241213T010000Z
END:VEVENT
END:VCALENDAR
