BEGIN:VCALENDAR
VERSION:2.0
PRODID:SchoolNow
CALSCALE:GREGORIAN
BEGIN:VEVENT
UID:1b5635a8-c9e7-11ee-9702-0a5643f2d655
DTSTAMP:20240212T204132Z
SUMMARY:HOA  Meeting - Feb. 2024
LOCATION:Forest Creek Clubhouse - 11685 Old Florida Lane\, Parrish\, FL 342
 19
URL;VALUE=URI:https://www.forestcreekcdd.org/calendar/5315403/hoa-meeting-f
 eb-2024
DTSTART:20240215T230000Z
DTEND:20240216T020000Z
END:VEVENT
END:VCALENDAR
