BEGIN:VCALENDAR
VERSION:2.0
PRODID:SchoolNow
CALSCALE:GREGORIAN
BEGIN:VEVENT
UID:27b5ee74-c9e7-11ee-bbfc-029369a68b55
DTSTAMP:20240212T204153Z
SUMMARY:HOA  Meeting - Mar. 2024
LOCATION:Forest Creek Clubhouse - 11685 Old Florida Lane\, Parrish\, FL 342
 19
URL;VALUE=URI:https://www.forestcreekcdd.org/calendar/5315404/hoa-meeting-m
 ar-2024
DTSTART:20240321T220000Z
DTEND:20240322T010000Z
END:VEVENT
END:VCALENDAR
