BEGIN:VCALENDAR
VERSION:2.0
PRODID:SchoolNow
CALSCALE:GREGORIAN
BEGIN:VEVENT
UID:32baff9e-c9e7-11ee-9df5-0a58a9feac02
DTSTAMP:20240212T204212Z
SUMMARY:HOA  Meeting - Apr. 2024
LOCATION:Forest Creek Clubhouse - 11685 Old Florida Lane\, Parrish\, FL 342
 19
URL;VALUE=URI:https://www.forestcreekcdd.org/calendar/5315405/hoa-meeting-a
 pr-2024
DTSTART:20240418T220000Z
DTEND:20240419T010000Z
END:VEVENT
END:VCALENDAR
