BEGIN:VCALENDAR
VERSION:2.0
PRODID:SchoolNow
CALSCALE:GREGORIAN
BEGIN:VEVENT
UID:3e5591d4-c9e7-11ee-a82a-0a5643f2d655
DTSTAMP:20240212T204231Z
SUMMARY:HOA  Meeting - May 2024
LOCATION:Forest Creek Clubhouse - 11685 Old Florida Lane\, Parrish\, FL 342
 19
URL;VALUE=URI:https://www.forestcreekcdd.org/calendar/5315406/hoa-meeting-m
 ay-2024
DTSTART:20240516T220000Z
DTEND:20240517T010000Z
END:VEVENT
END:VCALENDAR
