BEGIN:VCALENDAR
VERSION:2.0
PRODID:SchoolNow
CALSCALE:GREGORIAN
BEGIN:VEVENT
UID:49ac1c6a-c9e7-11ee-97fe-0a58a9feac02
DTSTAMP:20240212T204301Z
SUMMARY:HOA  Meeting - Jun. 2024
LOCATION:Forest Creek Clubhouse - 11685 Old Florida Lane\, Parrish\, FL 342
 19
URL;VALUE=URI:https://www.forestcreekcdd.org/calendar/5315407/hoa-meeting-j
 un-2024
DTSTART:20240620T220000Z
DTEND:20240621T010000Z
END:VEVENT
END:VCALENDAR
