BEGIN:VCALENDAR
VERSION:2.0
PRODID:SchoolNow
CALSCALE:GREGORIAN
BEGIN:VEVENT
UID:5c166e5a-c9e7-11ee-83d3-0a58a9feac02
DTSTAMP:20240718T151606Z
SUMMARY:HOA  Meeting - Jul. 2024 - Cancelled
LOCATION:Forest Creek Clubhouse - 11685 Old Florida Lane\, Parrish\, FL 342
 19
URL;VALUE=URI:https://www.forestcreekcdd.org/calendar/5315408/hoa-meeting-j
 ul-2024
DTSTART:20240718T220000Z
DTEND:20240719T010000Z
END:VEVENT
END:VCALENDAR
