BEGIN:VCALENDAR
VERSION:2.0
PRODID:SchoolNow
CALSCALE:GREGORIAN
BEGIN:VEVENT
UID:676e86de-c9e7-11ee-913c-0a58a9feac02
DTSTAMP:20240212T204340Z
SUMMARY:HOA  Meeting - Aug. 2024
LOCATION:Forest Creek Clubhouse - 11685 Old Florida Lane\, Parrish\, FL 342
 19
URL;VALUE=URI:https://www.forestcreekcdd.org/calendar/5315409/hoa-meeting-a
 ug-2024
DTSTART:20240815T220000Z
DTEND:20240816T010000Z
END:VEVENT
END:VCALENDAR
