BEGIN:VCALENDAR
VERSION:2.0
PRODID:SchoolNow
CALSCALE:GREGORIAN
BEGIN:VEVENT
UID:74b8e488-c9e7-11ee-8959-0e07376e6619
DTSTAMP:20240212T204402Z
SUMMARY:HOA  Meeting - Sept. 2024
LOCATION:Forest Creek Clubhouse - 11685 Old Florida Lane\, Parrish\, FL 342
 19
URL;VALUE=URI:https://www.forestcreekcdd.org/calendar/5315410/hoa-meeting-s
 ept-2024
DTSTART:20240919T220000Z
DTEND:20240920T010000Z
END:VEVENT
END:VCALENDAR
