BEGIN:VCALENDAR
VERSION:2.0
PRODID:SchoolNow
CALSCALE:GREGORIAN
BEGIN:VEVENT
UID:8437fa0c-c9e7-11ee-971a-0a5643f2d655
DTSTAMP:20240212T204428Z
SUMMARY:HOA  Meeting - Oct. 2024
LOCATION:Forest Creek Clubhouse - 11685 Old Florida Lane\, Parrish\, FL 342
 19
URL;VALUE=URI:https://www.forestcreekcdd.org/calendar/5315411/hoa-meeting-o
 ct-2024
DTSTART:20241017T220000Z
DTEND:20241018T010000Z
END:VEVENT
END:VCALENDAR
