BEGIN:VCALENDAR
VERSION:2.0
PRODID:SchoolNow
CALSCALE:GREGORIAN
BEGIN:VEVENT
UID:9051951e-c9e7-11ee-a08a-0e07376e6619
DTSTAMP:20240212T204449Z
SUMMARY:HOA  Meeting - Nov. 2024
LOCATION:Forest Creek Clubhouse - 11685 Old Florida Lane\, Parrish\, FL 342
 19
URL;VALUE=URI:https://www.forestcreekcdd.org/calendar/5315412/hoa-meeting-n
 ov-2024
DTSTART:20241121T230000Z
DTEND:20241122T020000Z
END:VEVENT
END:VCALENDAR
