BEGIN:VCALENDAR
VERSION:2.0
PRODID:SchoolNow
CALSCALE:GREGORIAN
BEGIN:VEVENT
UID:9f8e405e-c9e7-11ee-9603-0a704538507b
DTSTAMP:20240212T204514Z
SUMMARY:HOA  Meeting - Dec. 2024
LOCATION:Forest Creek Clubhouse - 11685 Old Florida Lane\, Parrish\, FL 342
 19
URL;VALUE=URI:https://www.forestcreekcdd.org/calendar/5315413/hoa-meeting-d
 ec-2024
DTSTART:20241219T230000Z
DTEND:20241220T020000Z
END:VEVENT
END:VCALENDAR
