BEGIN:VCALENDAR
VERSION:2.0
PRODID:SchoolNow
CALSCALE:GREGORIAN
BEGIN:VEVENT
UID:908dee30-cc33-11ee-907a-0a58a9feac02
DTSTAMP:20240215T185353Z
SUMMARY:Private Event - Mar. 9th
URL;VALUE=URI:https://www.forestcreekcdd.org/calendar/5335347/private-event
 -mar-9th
DTSTART:20240309T143000Z
DTEND:20240309T193000Z
END:VEVENT
END:VCALENDAR
