BEGIN:VCALENDAR
VERSION:2.0
PRODID:SchoolNow
CALSCALE:GREGORIAN
BEGIN:VEVENT
UID:230c9f48-d253-11ee-978b-0a58a9feac02
DTSTAMP:20240223T135500Z
SUMMARY:HOA Landscape Committee - Mar. 20th\,  2024
LOCATION:Forest Creek Clubhouse - 11685 Old Florida Lane\, Parrish\, FL 342
 19
URL;VALUE=URI:https://www.forestcreekcdd.org/calendar/5388028/hoa-landscape
 -committee-mar-20th-2024
DTSTART:20240320T220000Z
DTEND:20240321T000000Z
END:VEVENT
END:VCALENDAR
