BEGIN:VCALENDAR
VERSION:2.0
PRODID:SchoolNow
CALSCALE:GREGORIAN
BEGIN:VEVENT
UID:772b6a8a-d57f-11ee-9742-029e8ffd05b9
DTSTAMP:20240227T144953Z
SUMMARY:Private Event - Mar. 23rd
URL;VALUE=URI:https://www.forestcreekcdd.org/calendar/5416053/private-event
 -mar-23rd
DTSTART:20240323T150000Z
DTEND:20240323T200000Z
END:VEVENT
END:VCALENDAR
