BEGIN:VCALENDAR
VERSION:2.0
PRODID:SchoolNow
CALSCALE:GREGORIAN
BEGIN:VEVENT
UID:b147531e-d57f-11ee-9c61-0a58a9feac02
DTSTAMP:20240227T145130Z
SUMMARY:Community Potluck
URL;VALUE=URI:https://www.forestcreekcdd.org/calendar/5416055/community-pot
 luck
DTSTART:20240323T210000Z
DTEND:20240324T020000Z
END:VEVENT
END:VCALENDAR
