BEGIN:VCALENDAR
VERSION:2.0
PRODID:SchoolNow
CALSCALE:GREGORIAN
BEGIN:VEVENT
UID:91be9b1e-db02-11ee-b7ee-0a58a9feac02
DTSTAMP:20240307T170423Z
SUMMARY:Private Event - Jun. 1st
URL;VALUE=URI:https://www.forestcreekcdd.org/calendar/5469741/private-event
 -jun-1st
DTSTART:20240601T140000Z
DTEND:20240601T190000Z
END:VEVENT
END:VCALENDAR
