BEGIN:VCALENDAR
VERSION:2.0
PRODID:SchoolNow
CALSCALE:GREGORIAN
BEGIN:VEVENT
UID:7a71909a-e0a4-11ee-9dde-0a58a9feac02
DTSTAMP:20240312T191232Z
SUMMARY:Private Event - Apr. 28th
URL;VALUE=URI:https://www.forestcreekcdd.org/calendar/5528683/private-event
 -apr-28th
DTSTART:20240428T180000Z
DTEND:20240428T220000Z
END:VEVENT
END:VCALENDAR
