BEGIN:VCALENDAR
VERSION:2.0
PRODID:SchoolNow
CALSCALE:GREGORIAN
BEGIN:VEVENT
UID:54c762ea-edea-11ee-b6cf-029fbde84323
DTSTAMP:20240329T163519Z
SUMMARY:HOA Landscape Committee - Apr. 17th\,  2024
LOCATION:Forest Creek Clubhouse - 11685 Old Florida Lane\, Parrish\, FL 342
 19
URL;VALUE=URI:https://www.forestcreekcdd.org/calendar/5659893/hoa-landscape
 -committee-apr-17th-2024
DTSTART:20240417T220000Z
DTEND:20240418T000000Z
END:VEVENT
END:VCALENDAR
