BEGIN:VCALENDAR
VERSION:2.0
PRODID:SchoolNow
CALSCALE:GREGORIAN
BEGIN:VEVENT
UID:8063cf50-f02f-11ee-b93e-0a58a9feac02
DTSTAMP:20240401T135530Z
SUMMARY:Casual Friday Dinner
URL;VALUE=URI:https://www.forestcreekcdd.org/calendar/5682370/casual-friday
 -dinner
DTSTART:20240426T210000Z
DTEND:20240427T010000Z
END:VEVENT
END:VCALENDAR
