BEGIN:VCALENDAR
VERSION:2.0
PRODID:SchoolNow
CALSCALE:GREGORIAN
BEGIN:VEVENT
UID:6afc68a0-0954-11ef-ae74-023c38fc7661
DTSTAMP:20240503T135244Z
SUMMARY:Private Event - May 11th
URL;VALUE=URI:https://www.forestcreekcdd.org/calendar/5906064/private-event
 -may-11th
DTSTART:20240511T180000Z
DTEND:20240511T230000Z
END:VEVENT
END:VCALENDAR
