BEGIN:VCALENDAR
VERSION:2.0
PRODID:SchoolNow
CALSCALE:GREGORIAN
BEGIN:VEVENT
UID:56746954-0f04-11ef-9b56-02f799210cef
DTSTAMP:20240510T193437Z
SUMMARY:Private Event - Aug. 24th
URL;VALUE=URI:https://www.forestcreekcdd.org/calendar/5950107/private-event
 -aug-24th
DTSTART:20240824T153000Z
DTEND:20240824T203000Z
END:VEVENT
END:VCALENDAR
