BEGIN:VCALENDAR
VERSION:2.0
PRODID:SchoolNow
CALSCALE:GREGORIAN
BEGIN:VEVENT
UID:4fe5b8b6-1226-11ef-a8e1-0a58a9feac02
DTSTAMP:20240514T192349Z
SUMMARY:Private Event - Jul. 23rd
URL;VALUE=URI:https://www.forestcreekcdd.org/calendar/5970187/private-event
 -jul-23rd
DTSTART:20240723T213000Z
DTEND:20240724T010000Z
END:VEVENT
END:VCALENDAR
