BEGIN:VCALENDAR
VERSION:2.0
PRODID:SchoolNow
CALSCALE:GREGORIAN
BEGIN:VEVENT
UID:f2732748-145c-11ef-8e6c-0a58a9feac02
DTSTAMP:20240517T145130Z
SUMMARY:HOA Landscape Committee - June. 19th\,  2024
LOCATION:Forest Creek Clubhouse - 11685 Old Florida Lane\, Parrish\, FL 342
 19
URL;VALUE=URI:https://www.forestcreekcdd.org/calendar/5986509/hoa-landscape
 -committee-june-19th-2024
DTSTART:20240619T220000Z
DTEND:20240620T000000Z
END:VEVENT
END:VCALENDAR
