BEGIN:VCALENDAR
VERSION:2.0
PRODID:SchoolNow
CALSCALE:GREGORIAN
BEGIN:VEVENT
UID:4114b326-145d-11ef-9117-0e96e2572a19
DTSTAMP:20240517T145342Z
SUMMARY:Private Event - Jun. 15th
URL;VALUE=URI:https://www.forestcreekcdd.org/calendar/5986510/private-event
 -jun-15th
DTSTART:20240615T150000Z
DTEND:20240615T200000Z
END:VEVENT
END:VCALENDAR
