BEGIN:VCALENDAR
VERSION:2.0
PRODID:SchoolNow
CALSCALE:GREGORIAN
BEGIN:VEVENT
UID:5993d0ac-2359-11ef-8e6c-0a58a9feac02
DTSTAMP:20240605T163333Z
SUMMARY:Casual Friday Pot Luck Gathering - Feb. 23rd\, 2024
LOCATION:The Clubhouse
URL;VALUE=URI:https://www.forestcreekcdd.org/calendar/6080860/casual-friday
 -pot-luck-gathering-feb-23rd-2024
DTSTART:20240223T220000Z
DTEND:20240223T230000Z
END:VEVENT
END:VCALENDAR
