BEGIN:VCALENDAR
VERSION:2.0
PRODID:SchoolNow
CALSCALE:GREGORIAN
BEGIN:VEVENT
UID:69f41c4a-2359-11ef-8fb3-0affc8cb62d7
DTSTAMP:20240605T163400Z
SUMMARY:Casual Friday Pot Luck Gathering - Mar. 23rd\, 2024
LOCATION:The Clubhouse
URL;VALUE=URI:https://www.forestcreekcdd.org/calendar/6080862/casual-friday
 -pot-luck-gathering-mar-23rd-2024
DTSTART:20240323T210000Z
DTEND:20240323T220000Z
END:VEVENT
END:VCALENDAR
