BEGIN:VCALENDAR
VERSION:2.0
PRODID:SchoolNow
CALSCALE:GREGORIAN
BEGIN:VEVENT
UID:824dd8b2-2359-11ef-b5d4-02e2ebfbf7ab
DTSTAMP:20240605T163441Z
SUMMARY:Casual Friday Pot Luck Gathering - Apr. 26th\, 2024
LOCATION:The Clubhouse
URL;VALUE=URI:https://www.forestcreekcdd.org/calendar/6080863/casual-friday
 -pot-luck-gathering-apr-26th-2024
DTSTART:20240426T210000Z
DTEND:20240426T220000Z
END:VEVENT
END:VCALENDAR
