BEGIN:VCALENDAR
VERSION:2.0
PRODID:SchoolNow
CALSCALE:GREGORIAN
BEGIN:VEVENT
UID:8f16bb04-2359-11ef-978e-0a58a9feac02
DTSTAMP:20240605T163503Z
SUMMARY:Casual Friday Pot Luck Gathering - May 31st\, 2024
LOCATION:The Clubhouse
URL;VALUE=URI:https://www.forestcreekcdd.org/calendar/6080865/casual-friday
 -pot-luck-gathering-may-31st-2024
DTSTART:20240531T210000Z
DTEND:20240531T220000Z
END:VEVENT
END:VCALENDAR
