BEGIN:VCALENDAR
VERSION:2.0
PRODID:SchoolNow
CALSCALE:GREGORIAN
BEGIN:VEVENT
UID:9bcf1ee0-2359-11ef-81e2-0a58a9feac02
DTSTAMP:20240605T163643Z
SUMMARY:Casual Friday Pot Luck Gathering - Aug. 30th\, 2024
LOCATION:The Clubhouse
URL;VALUE=URI:https://www.forestcreekcdd.org/calendar/6080866/casual-friday
 -pot-luck-gathering-aug-30th-2024
DTSTART:20240830T210000Z
DTEND:20240830T220000Z
END:VEVENT
END:VCALENDAR
