BEGIN:VCALENDAR
VERSION:2.0
PRODID:SchoolNow
CALSCALE:GREGORIAN
BEGIN:VEVENT
UID:9bee1688-2359-11ef-bf71-0a58a9feac02
DTSTAMP:20240605T163524Z
SUMMARY:Casual Friday Pot Luck Gathering - Jun. 28th\, 2024
LOCATION:The Clubhouse
URL;VALUE=URI:https://www.forestcreekcdd.org/calendar/6080867/casual-friday
 -pot-luck-gathering-jun-28th-2024
DTSTART:20240628T210000Z
DTEND:20240628T220000Z
END:VEVENT
END:VCALENDAR
