BEGIN:VCALENDAR
VERSION:2.0
PRODID:SchoolNow
CALSCALE:GREGORIAN
BEGIN:VEVENT
UID:a7f729b0-2359-11ef-9bea-0a58a9feac02
DTSTAMP:20240605T163544Z
SUMMARY:Casual Friday Pot Luck Gathering - Jul. 26th\, 2024
LOCATION:The Clubhouse
URL;VALUE=URI:https://www.forestcreekcdd.org/calendar/6080868/casual-friday
 -pot-luck-gathering-jul-26th-2024
DTSTART:20240726T210000Z
DTEND:20240726T220000Z
END:VEVENT
END:VCALENDAR
