BEGIN:VCALENDAR
VERSION:2.0
PRODID:SchoolNow
CALSCALE:GREGORIAN
BEGIN:VEVENT
UID:e14803a6-2359-11ef-b21a-0afffa64151d
DTSTAMP:20240605T163721Z
SUMMARY:Casual Friday Pot Luck Gathering - Sept. 27th\, 2024
LOCATION:The Clubhouse
URL;VALUE=URI:https://www.forestcreekcdd.org/calendar/6080878/casual-friday
 -pot-luck-gathering-sept-27th-2024
DTSTART:20240927T210000Z
DTEND:20240927T220000Z
END:VEVENT
END:VCALENDAR
