BEGIN:VCALENDAR
VERSION:2.0
PRODID:SchoolNow
CALSCALE:GREGORIAN
BEGIN:VEVENT
UID:f2c8b634-2359-11ef-ae2f-024cb4f111ff
DTSTAMP:20240605T163750Z
SUMMARY:Casual Friday Pot Luck Gathering - Oct. 25th\, 2024
LOCATION:The Clubhouse
URL;VALUE=URI:https://www.forestcreekcdd.org/calendar/6080879/casual-friday
 -pot-luck-gathering-oct-25th-2024
DTSTART:20241025T210000Z
DTEND:20241025T220000Z
END:VEVENT
END:VCALENDAR
