BEGIN:VCALENDAR
VERSION:2.0
PRODID:SchoolNow
CALSCALE:GREGORIAN
BEGIN:VEVENT
UID:10aee75e-235a-11ef-84f9-024cb4f111ff
DTSTAMP:20240605T163840Z
SUMMARY:Casual Friday Pot Luck Gathering - Dec. 27th\, 2024
LOCATION:The Clubhouse
URL;VALUE=URI:https://www.forestcreekcdd.org/calendar/6080881/casual-friday
 -pot-luck-gathering-dec-27th-2024
DTSTART:20241227T220000Z
DTEND:20241227T230000Z
END:VEVENT
END:VCALENDAR
