BEGIN:VCALENDAR
VERSION:2.0
PRODID:SchoolNow
CALSCALE:GREGORIAN
BEGIN:VEVENT
UID:23ca02ce-235a-11ef-9e51-0e9961c8cae3
DTSTAMP:20240605T163912Z
SUMMARY:Casual Friday Pot Luck Gathering - Jan. 31st\, 2025
LOCATION:The Clubhouse
URL;VALUE=URI:https://www.forestcreekcdd.org/calendar/6080882/casual-friday
 -pot-luck-gathering-jan-31st-2025
DTSTART:20250131T220000Z
DTEND:20250131T230000Z
END:VEVENT
END:VCALENDAR
