BEGIN:VCALENDAR
VERSION:2.0
PRODID:SchoolNow
CALSCALE:GREGORIAN
BEGIN:VEVENT
UID:33c6d076-235a-11ef-97b8-0a58a9feac02
DTSTAMP:20240605T163939Z
SUMMARY:Casual Friday Pot Luck Gathering - Feb. 28th\, 2025
LOCATION:The Clubhouse
URL;VALUE=URI:https://www.forestcreekcdd.org/calendar/6080883/casual-friday
 -pot-luck-gathering-feb-28th-2025
DTSTART:20250228T220000Z
DTEND:20250228T230000Z
END:VEVENT
END:VCALENDAR
