BEGIN:VCALENDAR
VERSION:2.0
PRODID:SchoolNow
CALSCALE:GREGORIAN
BEGIN:VEVENT
UID:49242202-235a-11ef-98e8-0a58a9feac02
DTSTAMP:20250128T143736Z
SUMMARY:Casual Friday Pot Luck Gathering - Mar. 22nd\, 2025
LOCATION:The Clubhouse
URL;VALUE=URI:https://www.forestcreekcdd.org/calendar/6080884/casual-friday
 -pot-luck-gathering-mar-28th-2025
DTSTART:20250322T210000Z
DTEND:20250323T020000Z
END:VEVENT
END:VCALENDAR
