BEGIN:VCALENDAR
VERSION:2.0
PRODID:SchoolNow
CALSCALE:GREGORIAN
BEGIN:VEVENT
UID:edba0496-28da-11ef-99fd-0affee69e5df
DTSTAMP:20240909T172932Z
SUMMARY:Private Event - Oct. 12th
URL;VALUE=URI:https://www.forestcreekcdd.org/calendar/6112832/private-event
 -oct-12th
DTSTART:20241012T160000Z
DTEND:20241012T200000Z
END:VEVENT
END:VCALENDAR
