BEGIN:VCALENDAR
VERSION:2.0
PRODID:SchoolNow
CALSCALE:GREGORIAN
BEGIN:VEVENT
UID:823bf228-2cd2-11ef-b82d-0a58a9feac02
DTSTAMP:20240617T175331Z
SUMMARY:Community Celebration
LOCATION:Clubhouse
URL;VALUE=URI:https://www.forestcreekcdd.org/calendar/6134753/community-cel
 ebration
DTSTART:20240704T140000Z
DTEND:20240704T180000Z
END:VEVENT
END:VCALENDAR
